BEGIN:VCALENDAR
VERSION:2.0
PRODID:-//Tukios.com/
BEGIN:VEVENT
UID:1a99445a-7a10-4468-be0e-d1a9832dc36f@www.soliefunerals.com
DTSTAMP:20260421T004842Z
DTSTART:20260422T180000Z
DTEND:20260422T200000Z
SUMMARY:Funeral Service
DESCRIPTION:
URL:https://www.soliefunerals.com/obituaries/jaswinder-kaur-2026
LOCATION: 3301 Colby Ave.  Everett WA 98201
GEO:47.9736974;-122.2080537
END:VEVENT
END:VCALENDAR